BEGIN:VCALENDAR
VERSION:2.0
PRODID:-// - ECPv6.15.15//NONSGML v1.0//EN
CALSCALE:GREGORIAN
METHOD:PUBLISH
X-ORIGINAL-URL:https://cinematic-kyuniverse.de
X-WR-CALDESC:Veranstaltungen für 
REFRESH-INTERVAL;VALUE=DURATION:PT1H
X-Robots-Tag:noindex
X-PUBLISHED-TTL:PT1H
BEGIN:VTIMEZONE
TZID:Europe/Berlin
BEGIN:DAYLIGHT
TZOFFSETFROM:+0100
TZOFFSETTO:+0200
TZNAME:CEST
DTSTART:20230326T010000
END:DAYLIGHT
BEGIN:STANDARD
TZOFFSETFROM:+0200
TZOFFSETTO:+0100
TZNAME:CET
DTSTART:20231029T010000
END:STANDARD
BEGIN:DAYLIGHT
TZOFFSETFROM:+0100
TZOFFSETTO:+0200
TZNAME:CEST
DTSTART:20240331T010000
END:DAYLIGHT
BEGIN:STANDARD
TZOFFSETFROM:+0200
TZOFFSETTO:+0100
TZNAME:CET
DTSTART:20241027T010000
END:STANDARD
BEGIN:DAYLIGHT
TZOFFSETFROM:+0100
TZOFFSETTO:+0200
TZNAME:CEST
DTSTART:20250330T010000
END:DAYLIGHT
BEGIN:STANDARD
TZOFFSETFROM:+0200
TZOFFSETTO:+0100
TZNAME:CET
DTSTART:20251026T010000
END:STANDARD
END:VTIMEZONE
BEGIN:VEVENT
DTSTART;TZID=Europe/Berlin:20240710T170000
DTEND;TZID=Europe/Berlin:20240710T200000
DTSTAMP:20260425T150404
CREATED:20260129T112440Z
LAST-MODIFIED:20260129T112504Z
UID:659-1720630800-1720641600@cinematic-kyuniverse.de
SUMMARY:support für stuemperhaft
DESCRIPTION:
URL:https://cinematic-kyuniverse.de/event/support-fuer-stuemperhaft/
LOCATION:Minna Thiel\, Bernd-Eichinger-Platz 1\, München\, 80333\, Germany
END:VEVENT
BEGIN:VEVENT
DTSTART;TZID=Europe/Berlin:20240717T170000
DTEND;TZID=Europe/Berlin:20240717T180000
DTSTAMP:20260425T150404
CREATED:20260129T121859Z
LAST-MODIFIED:20260129T121859Z
UID:666-1721235600-1721239200@cinematic-kyuniverse.de
SUMMARY:support für die sieben-eierigen-vierlinge
DESCRIPTION:wir sagen nicht\, wem das vierte ei fehlt 😛
URL:https://cinematic-kyuniverse.de/event/support-fuer-die-sieben-eierigen-vierlinge/
LOCATION:Wurzelknorken3000\, München
END:VEVENT
END:VCALENDAR