BEGIN:VCALENDAR
VERSION:2.0
PRODID:-// - ECPv6.15.15//NONSGML v1.0//EN
CALSCALE:GREGORIAN
METHOD:PUBLISH
X-ORIGINAL-URL:https://cinematic-kyuniverse.de
X-WR-CALDESC:Veranstaltungen für 
REFRESH-INTERVAL;VALUE=DURATION:PT1H
X-Robots-Tag:noindex
X-PUBLISHED-TTL:PT1H
BEGIN:VTIMEZONE
TZID:Europe/Berlin
BEGIN:DAYLIGHT
TZOFFSETFROM:+0100
TZOFFSETTO:+0200
TZNAME:CEST
DTSTART:20240331T010000
END:DAYLIGHT
BEGIN:STANDARD
TZOFFSETFROM:+0200
TZOFFSETTO:+0100
TZNAME:CET
DTSTART:20241027T010000
END:STANDARD
BEGIN:DAYLIGHT
TZOFFSETFROM:+0100
TZOFFSETTO:+0200
TZNAME:CEST
DTSTART:20250330T010000
END:DAYLIGHT
BEGIN:STANDARD
TZOFFSETFROM:+0200
TZOFFSETTO:+0100
TZNAME:CET
DTSTART:20251026T010000
END:STANDARD
BEGIN:DAYLIGHT
TZOFFSETFROM:+0100
TZOFFSETTO:+0200
TZNAME:CEST
DTSTART:20260329T010000
END:DAYLIGHT
BEGIN:STANDARD
TZOFFSETFROM:+0200
TZOFFSETTO:+0100
TZNAME:CET
DTSTART:20261025T010000
END:STANDARD
END:VTIMEZONE
BEGIN:VEVENT
DTSTART;TZID=Europe/Berlin:20250710T210000
DTEND;TZID=Europe/Berlin:20250710T220000
DTSTAMP:20260420T105347
CREATED:20260129T123102Z
LAST-MODIFIED:20260129T123240Z
UID:678-1752181200-1752184800@cinematic-kyuniverse.de
SUMMARY:Support für Mondkater
DESCRIPTION:Das Warten hat ein Ende!  Am 27.6. ist WEINFEST – 8 hochqualitative Weine\, Crêpes\, Käseplatten und Livemusik sorgen auch dieses Jahr für eine unvergessliche Sommernacht  Stay Tuned für die Weinvorstellung und die Bands
URL:https://cinematic-kyuniverse.de/event/support-fuer-mondkater-4/
LOCATION:SLK Sommerfest\, Universitätsstraße 31\, Regensburg\, 93053
END:VEVENT
BEGIN:VEVENT
DTSTART;TZID=Europe/Berlin:20250719T180000
DTEND;TZID=Europe/Berlin:20250719T190000
DTSTAMP:20260420T105347
CREATED:20260129T122748Z
LAST-MODIFIED:20260129T122910Z
UID:674-1752948000-1752951600@cinematic-kyuniverse.de
SUMMARY:support für Mondkater
DESCRIPTION:Vor der Sommerpause findet traditionell das MÄLZE-SOMMER-HOFFEST als kleines Stadtteilfest für den Galgenberg und seine Bewohner:innen statt. Ab 16 Uhr sind auf der Open Air-Bühne im Biergarten der Mälzerei mehrere Bands zu erleben. Mondkater entführen das Publikum mit ihrem Hyperpop auf eine Reise ins All. Luisa Funkenstein begeistert seit vielen Jahren mit einfühlsamen Pianoklängen und souliger Stimme. Feathers`n`Fray überzeugen mit ihrer Mischung aus Indie\, Grunge Rock und starken Melodien. Kräuterkur laden mit Reggae\, Ska und Rocksteady zum Tanzen ein. \nEintritt frei!
URL:https://cinematic-kyuniverse.de/event/support-fuer-mondkater-3/
LOCATION:Alte Mälzerei\, Galgenbergstraße 20\, Regensburg\, 93053
END:VEVENT
END:VCALENDAR